BEGIN:VCALENDAR
VERSION:2.0
PRODID:-//美国华人生活 - ECPv6.15.18//NONSGML v1.0//EN
CALSCALE:GREGORIAN
METHOD:PUBLISH
X-ORIGINAL-URL:https://chineseamericanlife.com
X-WR-CALDESC:Events for 美国华人生活
REFRESH-INTERVAL;VALUE=DURATION:PT1H
X-Robots-Tag:noindex
X-PUBLISHED-TTL:PT1H
BEGIN:VTIMEZONE
TZID:America/Los_Angeles
BEGIN:DAYLIGHT
TZOFFSETFROM:-0800
TZOFFSETTO:-0700
TZNAME:PDT
DTSTART:20200308T100000
END:DAYLIGHT
BEGIN:STANDARD
TZOFFSETFROM:-0700
TZOFFSETTO:-0800
TZNAME:PST
DTSTART:20201101T090000
END:STANDARD
BEGIN:DAYLIGHT
TZOFFSETFROM:-0800
TZOFFSETTO:-0700
TZNAME:PDT
DTSTART:20210314T100000
END:DAYLIGHT
BEGIN:STANDARD
TZOFFSETFROM:-0700
TZOFFSETTO:-0800
TZNAME:PST
DTSTART:20211107T090000
END:STANDARD
BEGIN:DAYLIGHT
TZOFFSETFROM:-0800
TZOFFSETTO:-0700
TZNAME:PDT
DTSTART:20220313T100000
END:DAYLIGHT
BEGIN:STANDARD
TZOFFSETFROM:-0700
TZOFFSETTO:-0800
TZNAME:PST
DTSTART:20221106T090000
END:STANDARD
END:VTIMEZONE
BEGIN:VEVENT
DTSTART;TZID=America/Los_Angeles:20210514T090000
DTEND;TZID=America/Los_Angeles:20210514T123000
DTSTAMP:20260424T135617
CREATED:20210511T155235Z
LAST-MODIFIED:20210511T160704Z
UID:1352-1620982800-1620995400@chineseamericanlife.com
SUMMARY:反对仇恨犯罪，旧金山检察长和加州华裔大法官线上高峰会
DESCRIPTION:什么是仇恨犯罪？我们现有的制度是否足以起诉仇恨犯罪？从长远来看，我们如何才能最好地防止针对亚太裔的暴力行为？在全美各地庆祝亚裔传统月的温馨时刻，旧金山地区检察院特别举办“防止针对亚太裔暴力与仇恨犯罪网上高峰会”，让亚太裔民众了解保护自身安全的资讯和方法，帮助大家消除恐惧，学会防范措施。执法部门与民众加强沟通，相互理解与合作，是长远解决问题的最好方式。 \n高峰会议将由旧金山检察长博彻思（Chesa Boudin）亲自主持，加州最高法院华裔大法官刘弘威（Goodwin Hon Liu）做主题演讲。 \n高峰会议将安排两个专家讨论小组，广泛讨论过去与​​当前的重要议题，并研究确实具体的步骤，带领社区向前迈进。最后将为听众解答问题，提供服务华裔社区的相关信息。 \n欢迎华裔社区各界人士，特别是旧金山市（旧金山）地区的朋友互相转告，尽快注册。 \n日期: 2021年5月14日 \n时间:上午9点 – 中午12：30 \n议程：9:00-10:00 开幕式： \n旧金山第二位桂冠诗人，Glide基金会创始主席 Janice Mirikitani：“What Form of Madness” \n加州最高法院大法官 刘弘威 主旨发言 \n10:00-11:15 专家小组一：仇恨犯罪对社会的影响 \n11:20-12:35 专家小组二：重新思考仇恨犯罪的调查及起诉方式 \n注册网址：https://bit.ly/SummitCHN \n旧金山市（旧金山）地区中文仇恨犯罪举报热线：628-652-4311
URL:https://chineseamericanlife.com/event/%e5%8f%8d%e6%8a%97%e4%bb%87%e6%81%a8%e7%8a%af%e7%bd%aa%ef%bc%8c%e6%97%a7%e9%87%91%e5%b1%b1%e6%a3%80%e5%af%9f%e9%95%bf%e5%92%8c%e5%8a%a0%e5%b7%9e%e5%8d%8e%e8%a3%94%e5%a4%a7%e6%b3%95%e5%ae%98%e7%ba%bf
LOCATION:Webinar
CATEGORIES:反对仇视亚裔
ATTACH;FMTTYPE=image/jpeg:https://chineseamericanlife.com/wp-content/uploads/2021/05/旧金山5-14高峰会.jpg
END:VEVENT
END:VCALENDAR