BEGIN:VCALENDAR
VERSION:2.0
PRODID:-//美国华人生活 - ECPv6.15.18//NONSGML v1.0//EN
CALSCALE:GREGORIAN
METHOD:PUBLISH
X-ORIGINAL-URL:https://chineseamericanlife.com
X-WR-CALDESC:Events for 美国华人生活
REFRESH-INTERVAL;VALUE=DURATION:PT1H
X-Robots-Tag:noindex
X-PUBLISHED-TTL:PT1H
BEGIN:VTIMEZONE
TZID:America/Los_Angeles
BEGIN:DAYLIGHT
TZOFFSETFROM:-0800
TZOFFSETTO:-0700
TZNAME:PDT
DTSTART:20200308T100000
END:DAYLIGHT
BEGIN:STANDARD
TZOFFSETFROM:-0700
TZOFFSETTO:-0800
TZNAME:PST
DTSTART:20201101T090000
END:STANDARD
BEGIN:DAYLIGHT
TZOFFSETFROM:-0800
TZOFFSETTO:-0700
TZNAME:PDT
DTSTART:20210314T100000
END:DAYLIGHT
BEGIN:STANDARD
TZOFFSETFROM:-0700
TZOFFSETTO:-0800
TZNAME:PST
DTSTART:20211107T090000
END:STANDARD
BEGIN:DAYLIGHT
TZOFFSETFROM:-0800
TZOFFSETTO:-0700
TZNAME:PDT
DTSTART:20220313T100000
END:DAYLIGHT
BEGIN:STANDARD
TZOFFSETFROM:-0700
TZOFFSETTO:-0800
TZNAME:PST
DTSTART:20221106T090000
END:STANDARD
END:VTIMEZONE
BEGIN:VTIMEZONE
TZID:America/New_York
BEGIN:DAYLIGHT
TZOFFSETFROM:-0500
TZOFFSETTO:-0400
TZNAME:EDT
DTSTART:20200308T070000
END:DAYLIGHT
BEGIN:STANDARD
TZOFFSETFROM:-0400
TZOFFSETTO:-0500
TZNAME:EST
DTSTART:20201101T060000
END:STANDARD
BEGIN:DAYLIGHT
TZOFFSETFROM:-0500
TZOFFSETTO:-0400
TZNAME:EDT
DTSTART:20210314T070000
END:DAYLIGHT
BEGIN:STANDARD
TZOFFSETFROM:-0400
TZOFFSETTO:-0500
TZNAME:EST
DTSTART:20211107T060000
END:STANDARD
BEGIN:DAYLIGHT
TZOFFSETFROM:-0500
TZOFFSETTO:-0400
TZNAME:EDT
DTSTART:20220313T070000
END:DAYLIGHT
BEGIN:STANDARD
TZOFFSETFROM:-0400
TZOFFSETTO:-0500
TZNAME:EST
DTSTART:20221106T060000
END:STANDARD
END:VTIMEZONE
BEGIN:VEVENT
DTSTART;TZID=America/Los_Angeles:20210529T170000
DTEND;TZID=America/Los_Angeles:20210529T190000
DTSTAMP:20260424T153411
CREATED:20210527T062441Z
LAST-MODIFIED:20210527T062441Z
UID:1407-1622307600-1622314800@chineseamericanlife.com
SUMMARY:5月29日的线上讲座，李炬会介绍他寻找拍摄地点的见闻
DESCRIPTION:李炬是一位自由摄影师。2010年他在美国国会图书馆偶然看到一批华人在美国修建铁路的照片后，立刻就被这段历史深深地吸引住了。加入斯坦佛大学”北美铁路华工项目”后，李炬找到150年前300张老照片的所有拍摄地点，重新拍摄出这条铁路的风貌并标志出机位的经纬度。为此2019年李炬荣获文物遗产保护杰出贡献奖。从2012年到2019年，李炬11次重走太平洋铁路寻访历史，扛着沉重的设备爬山越岭，风雪无阻完成了300张历史照片的复拍，为我们了解这条铁路的历史提供了宝贵的资料。 \n5月29日的线上讲座，李炬会介绍他寻找拍摄地点的见闻。 \n注册链接：https://zoom.us/webinar/register/WN_3g19nt3XT5qvd226RjPVjg
URL:https://chineseamericanlife.com/event/5%e6%9c%8829%e6%97%a5%e7%9a%84%e7%ba%bf%e4%b8%8a%e8%ae%b2%e5%ba%a7%ef%bc%8c%e6%9d%8e%e7%82%ac%e4%bc%9a%e4%bb%8b%e7%bb%8d%e4%bb%96%e5%af%bb%e6%89%be%e6%8b%8d%e6%91%84%e5%9c%b0%e7%82%b9%e7%9a%84
LOCATION:Webinar
CATEGORIES:五月节活动
ATTACH;FMTTYPE=image/png:https://chineseamericanlife.com/wp-content/uploads/2021/05/李炬.png
END:VEVENT
BEGIN:VEVENT
DTSTART;TZID=America/Los_Angeles:20210522T170000
DTEND;TZID=America/Los_Angeles:20210522T183000
DTSTAMP:20260424T153411
CREATED:20210511T170234Z
LAST-MODIFIED:20210511T170234Z
UID:1361-1621702800-1621708200@chineseamericanlife.com
SUMMARY:如何通过艺术途径来实现公民参与？
DESCRIPTION:旧金山亚洲艺术博物馆许杰 \n许杰1983年毕业于上海大学，1990年获奖学金来美国留学并获得普林斯顿大学博士学位。目前许杰是百人会会员， 美国文理科学院院士。许杰目前担任旧金山亚洲艺术博物馆馆长，也是美国大型博物馆的首位华裔馆长。许杰致力于在美国推广亚洲文明。他的目标是让亚洲艺术成为美国主流艺术。 \n请查看网址并注册：https://usdandelion.com/ \n 
URL:https://chineseamericanlife.com/event/%e5%a6%82%e4%bd%95%e9%80%9a%e8%bf%87%e8%89%ba%e6%9c%af%e9%80%94%e5%be%84%e6%9d%a5%e5%ae%9e%e7%8e%b0%e5%85%ac%e6%b0%91%e5%8f%82%e4%b8%8e%ef%bc%9f
LOCATION:Webinar
CATEGORIES:五月节活动
ATTACH;FMTTYPE=image/jpeg:https://chineseamericanlife.com/wp-content/uploads/2021/05/xu-1.jpg
END:VEVENT
BEGIN:VEVENT
DTSTART;TZID=America/New_York:20210516T200000
DTEND;TZID=America/New_York:20210516T210000
DTSTAMP:20260424T153411
CREATED:20210501T121440Z
LAST-MODIFIED:20210511T161742Z
UID:1319-1621195200-1621198800@chineseamericanlife.com
SUMMARY:黄西是怎样炼成的？-从生化实验室到喜剧讲坛
DESCRIPTION:主讲人：脱口秀演员黄西 \n1994年前往美国并在1999年取得德州莱斯大学生化博士学位。2000年黄西开始麻省剑桥一家制药公司工作。业余时间他就穿梭在新英格兰地区的酒吧、夜总会、俱乐部和大学礼堂，表演单口笑话。目前在北京从事喜剧演员职业。 \n请上网查看并注册 https://usdandelion.com/
URL:https://chineseamericanlife.com/event/%e9%bb%84%e8%a5%bf%e6%98%af%e6%80%8e%e6%a0%b7%e7%82%bc%e6%88%90%e7%9a%84%ef%bc%9f-%e4%bb%8e%e7%94%9f%e5%8c%96%e5%ae%9e%e9%aa%8c%e5%ae%a4%e5%88%b0%e5%96%9c%e5%89%a7%e8%ae%b2%e5%9d%9b
LOCATION:Webinar
CATEGORIES:五月节活动
ATTACH;FMTTYPE=image/jpeg:https://chineseamericanlife.com/wp-content/uploads/2021/05/xi-1.jpg
END:VEVENT
BEGIN:VEVENT
DTSTART;TZID=America/New_York:20210508T200000
DTEND;TZID=America/New_York:20210508T210000
DTSTAMP:20260424T153411
CREATED:20210501T120656Z
LAST-MODIFIED:20210501T213025Z
UID:1316-1620504000-1620507600@chineseamericanlife.com
SUMMARY:美国当代华人移民的成功与挑战！
DESCRIPTION:主讲人：加州大学洛杉矶分校亚裔研究中心的教授，社会学教授:周敏 \n周敏教授将分享她对当代美国华人的研究与分析。她的主要研究领域是移民社会学，城市社会学，民族社会学和亚裔研究学。主要著作：《唐人街：深具社会经济潜质的华人社区》；《唐人街》；《现代美国亚裔社会》；《美国亚裔青少年文化与族裔认同》；《当代美国华人社会的变迁》。
URL:https://chineseamericanlife.com/event/%e7%be%8e%e5%9b%bd%e5%bd%93%e4%bb%a3%e5%8d%8e%e4%ba%ba%e7%a7%bb%e6%b0%91%e7%9a%84%e6%88%90%e5%8a%9f%e4%b8%8e%e6%8c%91%e6%88%98%ef%bc%81
LOCATION:Webinar
CATEGORIES:五月节活动
ATTACH;FMTTYPE=image/jpeg:https://chineseamericanlife.com/wp-content/uploads/2021/05/min-2.jpg
END:VEVENT
BEGIN:VEVENT
DTSTART;TZID=America/Los_Angeles:20210504T150000
DTEND;TZID=America/Los_Angeles:20210504T160000
DTSTAMP:20260424T153411
CREATED:20210503T220432Z
LAST-MODIFIED:20210504T170854Z
UID:1341-1620140400-1620144000@chineseamericanlife.com
SUMMARY:Claiming Power: The Future of Asian Americans
DESCRIPTION:The Asian American Foundation’s virtual launch event convenes politicians\, leading journalists\, business leaders\, and cultural icons to discuss the most pressing issues for Asian Americans. \n下面中文来自于北美新视界 \n刚刚成立的美国亚裔基金会”(TAAF) 已经从美国成功的亚裔企业家、大公司和著名慈善基金会募集到超过2.5亿美元的捐款，其中作出大额捐款承诺的公司和慈善基金会包括沃尔玛、可口可乐、亚马逊、美国银行、福特基金会、麦克阿瑟基金会和美国国家篮球协会（NBA）等。这是历史上赠予美国亚太裔社区最大的慈善捐款。 \n美国亚裔基金会由一群最有影响力的美国亚裔商界领袖共同创立，旨在服务于美国2300万亚太裔人群，以追求归属感和富足生活，免受歧视、诽谤和暴力侵害。其创始董事会成员个人承诺了总计1.25亿美元的捐款，他们是TAAF董事会主席、喜马拉雅资本创始人兼董事长李录，KKR联席执行总裁Joseph Bae，Care.com创始人Sheila Lirio Marcelo， Alibaba共同创始人兼执行副董事长蔡崇信，雅虎共同创始人杨致远和Citadel Securities首席执行官赵鹏。董事会成员还包括美国反诽谤联盟（ADL）首席执行官Jonathan Greenblatt和TAAF基金会总裁Sonal Shah。 \n基金会的创始咨询委员会成员包括美国前国务卿赖斯、前任世界银行行长金墉、百事公司前任董事长兼首席执行官Indra Nooyi，微软前任执行副总裁沈向阳，著名记者和作家法里德·扎卡利亚（Fareed Zakaria）、CNN节目主持人凌志慧（Lisa Ling）、篮球运动员林书豪等31位知名人士和社会领袖。
URL:https://chineseamericanlife.com/event/claiming-power-the-future-of-asian-americans
LOCATION:Webinar
CATEGORIES:五月节活动
ATTACH;FMTTYPE=image/jpeg:https://chineseamericanlife.com/wp-content/uploads/2021/05/TAAF-01.jpg
END:VEVENT
BEGIN:VEVENT
DTSTART;TZID=America/New_York:20210501T200000
DTEND;TZID=America/New_York:20210501T210000
DTSTAMP:20260424T153411
CREATED:20210501T114941Z
LAST-MODIFIED:20210501T212930Z
UID:1311-1619899200-1619902800@chineseamericanlife.com
SUMMARY:我们为什么拍摄纪录片《排华法案》？
DESCRIPTION:主讲人：美国著名历史纪录片导演Ric Burns ，副导演虞丽幸 \n1882-1943年，华人不仅被禁止进入美国，还被禁止加入美国籍。这是美国历史上首次通过联邦立法来禁止一个特定族群入境的移民法。这就是《排华法案》。 \n美国著名历史纪录片导演贝恩斯（Ric Burns）和副导演虞丽幸（Li-Shin Yu）以大量资料和采访把这段历史搬上银幕。亚太文化传统月之际，他们与我们分享制作此片的过程和感想。 \n  \n 
URL:https://chineseamericanlife.com/event/chineseexclusionact
LOCATION:Webinar
CATEGORIES:五月节活动
ATTACH;FMTTYPE=image/jpeg:https://chineseamericanlife.com/wp-content/uploads/2021/05/Burns-1.jpg
END:VEVENT
BEGIN:VEVENT
DTSTART;TZID=America/New_York:20210501T140000
DTEND;TZID=America/New_York:20210501T151500
DTSTAMP:20260424T153411
CREATED:20210501T135208Z
LAST-MODIFIED:20210501T211456Z
UID:1327-1619877600-1619882100@chineseamericanlife.com
SUMMARY:“不再沉默：我们奋起书写”——如何让英文媒体发出我们的声音！
DESCRIPTION:本次网络研讨会是一项新的倡议，旨在通过“读者来信”（Letters to the Editor）或“专栏文章”（Op-Ed）让我们的声音和存在感得到倾听。我们将学习如何利用当地媒体去开始并且维持一个关于亚裔美国人的全国性对话。 \n我们邀请了媒体专家、资深记者和UCA活跃成员进行分享，他们将讨论向媒体投稿的影响、“读者来信”和发表“专栏文章”的来龙去脉以及UCA可以提供的资源。 \n研讨会还将提供一个现场编辑演示，为如何撰写“专栏文章”提供实际操作指导。
URL:https://chineseamericanlife.com/event/%e4%b8%8d%e5%86%8d%e6%b2%89%e9%bb%98%ef%bc%9a%e6%88%91%e4%bb%ac%e5%a5%8b%e8%b5%b7%e4%b9%a6%e5%86%99-%e5%a6%82%e4%bd%95%e8%ae%a9%e8%8b%b1%e6%96%87%e5%aa%92%e4%bd%93
LOCATION:Webinar
CATEGORIES:五月节活动
ATTACH;FMTTYPE=image/png:https://chineseamericanlife.com/wp-content/uploads/2021/05/Silent-No-More-663x1024-1.png
END:VEVENT
END:VCALENDAR